BEGIN:VCALENDAR
VERSION:2.0
PRODID:-//Goldgrube//myauktion.com//AT
CALSCALE:GREGORIAN
BEGIN:VEVENT
DTSTART:20260504T105000
DTEND:20260504T105030
LOCATION:Gewerbepark 13, 8562 Mooskirchen
DTSTAMP:20260420T162241
SUMMARY:MyAuktion: Ablauf Artikel Nr. 957309 Guinness World Records 2023
URL;VALUE=URI:https://www.myauktion.com/versteigerung7647-position2440542-guinness-world-records-2023.php
DESCRIPTION:
UID:myauktion-7647-2440542
BEGIN:VALARM
ACTION:DISPLAY
DESCRIPTION:
TRIGGER:-PT10M
END:VALARM
END:VEVENT
END:VCALENDAR