BEGIN:VCALENDAR
VERSION:2.0
PRODID:-//Goldgrube//myauktion.com//AT
CALSCALE:GREGORIAN
BEGIN:VEVENT
DTSTART:20260504T105100
DTEND:20260504T105130
LOCATION:Gewerbepark 13, 8562 Mooskirchen
DTSTAMP:20260420T162243
SUMMARY:MyAuktion: Ablauf Artikel Nr. 957310 Guinness World Records 2025
URL;VALUE=URI:https://www.myauktion.com/versteigerung7647-position2440543-guinness-world-records-2025.php
DESCRIPTION:
UID:myauktion-7647-2440543
BEGIN:VALARM
ACTION:DISPLAY
DESCRIPTION:
TRIGGER:-PT10M
END:VALARM
END:VEVENT
END:VCALENDAR