BEGIN:VCALENDAR
VERSION:2.0
PRODID:-//Goldgrube//myauktion.com//AT
CALSCALE:GREGORIAN
BEGIN:VEVENT
DTSTART:20260504T105200
DTEND:20260504T105230
LOCATION:Gewerbepark 13, 8562 Mooskirchen
DTSTAMP:20260420T193834
SUMMARY:MyAuktion: Ablauf Artikel Nr. 957311 MyLittleBox Le Registre de Bord Weekly Planner
URL;VALUE=URI:https://www.myauktion.com/versteigerung7647-position2440544-mylittlebox-le-registre-de-bord-weekly-planner.php
DESCRIPTION:
UID:myauktion-7647-2440544
BEGIN:VALARM
ACTION:DISPLAY
DESCRIPTION:
TRIGGER:-PT10M
END:VALARM
END:VEVENT
END:VCALENDAR