BEGIN:VCALENDAR
VERSION:2.0
PRODID:-//Goldgrube//myauktion.com//AT
CALSCALE:GREGORIAN
BEGIN:VEVENT
DTSTART:20260504T105400
DTEND:20260504T105430
LOCATION:Gewerbepark 13, 8562 Mooskirchen
DTSTAMP:20260420T162246
SUMMARY:MyAuktion: Ablauf Artikel Nr. 957313 Kleine Pandas, großes Versprechen
URL;VALUE=URI:https://www.myauktion.com/versteigerung7647-position2440546-kleine-pandas-grosses-versprechen.php
DESCRIPTION:
UID:myauktion-7647-2440546
BEGIN:VALARM
ACTION:DISPLAY
DESCRIPTION:
TRIGGER:-PT10M
END:VALARM
END:VEVENT
END:VCALENDAR