BEGIN:VCALENDAR
VERSION:2.0
PRODID:-//Goldgrube//myauktion.com//AT
CALSCALE:GREGORIAN
BEGIN:VEVENT
DTSTART:20260504T105600
DTEND:20260504T105630
LOCATION:Gewerbepark 13, 8562 Mooskirchen
DTSTAMP:20260420T162245
SUMMARY:MyAuktion: Ablauf Artikel Nr. 957315 Charlotte Link Die Betrogene Kriminalroman
URL;VALUE=URI:https://www.myauktion.com/versteigerung7647-position2440548-charlotte-link-die-betrogene-kriminalroman.php
DESCRIPTION:
UID:myauktion-7647-2440548
BEGIN:VALARM
ACTION:DISPLAY
DESCRIPTION:
TRIGGER:-PT10M
END:VALARM
END:VEVENT
END:VCALENDAR