BEGIN:VCALENDAR
VERSION:2.0
PRODID:-//Goldgrube//myauktion.com//AT
CALSCALE:GREGORIAN
BEGIN:VEVENT
DTSTART:20260504T105700
DTEND:20260504T105730
LOCATION:Gewerbepark 13, 8562 Mooskirchen
DTSTAMP:20260420T162245
SUMMARY:MyAuktion: Ablauf Artikel Nr. 957316 Colleen Hoover It Ends With Us
URL;VALUE=URI:https://www.myauktion.com/versteigerung7647-position2440549-colleen-hoover-it-ends-with-us.php
DESCRIPTION:Englisch
UID:myauktion-7647-2440549
BEGIN:VALARM
ACTION:DISPLAY
DESCRIPTION:Englisch
TRIGGER:-PT10M
END:VALARM
END:VEVENT
END:VCALENDAR