BEGIN:VCALENDAR
VERSION:2.0
PRODID:-//Goldgrube//myauktion.com//AT
CALSCALE:GREGORIAN
BEGIN:VEVENT
DTSTART:20260504T110100
DTEND:20260504T110130
LOCATION:Gewerbepark 13, 8562 Mooskirchen
DTSTAMP:20260420T162237
SUMMARY:MyAuktion: Ablauf Artikel Nr. 957320 Hermann Scherer Sichtbar Wer nicht auffällt, fällt weg!
URL;VALUE=URI:https://www.myauktion.com/versteigerung7647-position2440553-hermann-scherer-sichtbar-wer-nicht-auffaellt-faellt-weg.php
DESCRIPTION:
UID:myauktion-7647-2440553
BEGIN:VALARM
ACTION:DISPLAY
DESCRIPTION:
TRIGGER:-PT10M
END:VALARM
END:VEVENT
END:VCALENDAR