BEGIN:VCALENDAR
VERSION:2.0
PRODID:-//Goldgrube//myauktion.com//AT
CALSCALE:GREGORIAN
BEGIN:VEVENT
DTSTART:20260504T110500
DTEND:20260504T110530
LOCATION:Gewerbepark 13, 8562 Mooskirchen
DTSTAMP:20260420T162243
SUMMARY:MyAuktion: Ablauf Artikel Nr. 957324 Heyne Zwei an einem Tag Roman
URL;VALUE=URI:https://www.myauktion.com/versteigerung7647-position2440557-heyne-zwei-an-einem-tag-roman.php
DESCRIPTION:Erstmals im Taschenbuch
UID:myauktion-7647-2440557
BEGIN:VALARM
ACTION:DISPLAY
DESCRIPTION:Erstmals im Taschenbuch
TRIGGER:-PT10M
END:VALARM
END:VEVENT
END:VCALENDAR