BEGIN:VCALENDAR
VERSION:2.0
PRODID:-//Goldgrube//myauktion.com//AT
CALSCALE:GREGORIAN
BEGIN:VEVENT
DTSTART:20260504T111300
DTEND:20260504T111330
LOCATION:Gewerbepark 13, 8562 Mooskirchen
DTSTAMP:20260420T144608
SUMMARY:MyAuktion: Ablauf Artikel Nr. 957332 Maggie O'Farrell Porträt einer Ehe Roman
URL;VALUE=URI:https://www.myauktion.com/versteigerung7647-position2440565-maggie-ofarrell-portraet-einer-ehe-roman.php
DESCRIPTION:
UID:myauktion-7647-2440565
BEGIN:VALARM
ACTION:DISPLAY
DESCRIPTION:
TRIGGER:-PT10M
END:VALARM
END:VEVENT
END:VCALENDAR