BEGIN:VCALENDAR
VERSION:2.0
PRODID:-//Goldgrube//myauktion.com//AT
CALSCALE:GREGORIAN
BEGIN:VEVENT
DTSTART:20260504T111500
DTEND:20260504T111530
LOCATION:Gewerbepark 13, 8562 Mooskirchen
DTSTAMP:20260420T143707
SUMMARY:MyAuktion: Ablauf Artikel Nr. 957334 Frida Skybäck Der kleine Buchsalon am anderen Ende Welt Roman
URL;VALUE=URI:https://www.myauktion.com/versteigerung7647-position2440567-frida-skybaeck-der-kleine-buchsalon-am-anderen-ende-welt-roman.php
DESCRIPTION:
UID:myauktion-7647-2440567
BEGIN:VALARM
ACTION:DISPLAY
DESCRIPTION:
TRIGGER:-PT10M
END:VALARM
END:VEVENT
END:VCALENDAR