BEGIN:VCALENDAR
VERSION:2.0
PRODID:-//Goldgrube//myauktion.com//AT
CALSCALE:GREGORIAN
BEGIN:VEVENT
DTSTART:20260504T111800
DTEND:20260504T111830
LOCATION:Gewerbepark 13, 8562 Mooskirchen
DTSTAMP:20260420T162244
SUMMARY:MyAuktion: Ablauf Artikel Nr. 957337 Emmi Johannsen Mordsee Musik Ein Borkum-Krimi
URL;VALUE=URI:https://www.myauktion.com/versteigerung7647-position2440570-emmi-johannsen-mordsee-musik-ein-borkum-krimi.php
DESCRIPTION:
UID:myauktion-7647-2440570
BEGIN:VALARM
ACTION:DISPLAY
DESCRIPTION:
TRIGGER:-PT10M
END:VALARM
END:VEVENT
END:VCALENDAR