BEGIN:VCALENDAR
VERSION:2.0
PRODID:-//Goldgrube//myauktion.com//AT
CALSCALE:GREGORIAN
BEGIN:VEVENT
DTSTART:20260504T112000
DTEND:20260504T112030
LOCATION:Gewerbepark 13, 8562 Mooskirchen
DTSTAMP:20260420T193832
SUMMARY:MyAuktion: Ablauf Artikel Nr. 957339 Maren Schneider Der Weg Achtsamkeit Buch
URL;VALUE=URI:https://www.myauktion.com/versteigerung7647-position2440572-maren-schneider-der-weg-achtsamkeit-buch.php
DESCRIPTION:Bewusstheit und Meditation im täglichen Leben
UID:myauktion-7647-2440572
BEGIN:VALARM
ACTION:DISPLAY
DESCRIPTION:Bewusstheit und Meditation im täglichen Leben
TRIGGER:-PT10M
END:VALARM
END:VEVENT
END:VCALENDAR