BEGIN:VCALENDAR
VERSION:2.0
PRODID:-//Goldgrube//myauktion.com//AT
CALSCALE:GREGORIAN
BEGIN:VEVENT
DTSTART:20260504T112100
DTEND:20260504T112130
LOCATION:Gewerbepark 13, 8562 Mooskirchen
DTSTAMP:20260420T162247
SUMMARY:MyAuktion: Ablauf Artikel Nr. 957340 JOJO MOYES Ein ganzes halbes Jahr Roman
URL;VALUE=URI:https://www.myauktion.com/versteigerung7647-position2440573-jojo-moyes-ein-ganzes-halbes-jahr-roman.php
DESCRIPTION:
UID:myauktion-7647-2440573
BEGIN:VALARM
ACTION:DISPLAY
DESCRIPTION:
TRIGGER:-PT10M
END:VALARM
END:VEVENT
END:VCALENDAR