BEGIN:VCALENDAR
VERSION:2.0
PRODID:-//Goldgrube//myauktion.com//AT
CALSCALE:GREGORIAN
BEGIN:VEVENT
DTSTART:20260504T112200
DTEND:20260504T112230
LOCATION:Gewerbepark 13, 8562 Mooskirchen
DTSTAMP:20260420T214343
SUMMARY:MyAuktion: Ablauf Artikel Nr. 957341 Delia Owens Der Gesang Flusskrebse Roman
URL;VALUE=URI:https://www.myauktion.com/versteigerung7647-position2440574-delia-owens-der-gesang-flusskrebse-roman.php
DESCRIPTION:
UID:myauktion-7647-2440574
BEGIN:VALARM
ACTION:DISPLAY
DESCRIPTION:
TRIGGER:-PT10M
END:VALARM
END:VEVENT
END:VCALENDAR