BEGIN:VCALENDAR
VERSION:2.0
PRODID:-//Goldgrube//myauktion.com//AT
CALSCALE:GREGORIAN
BEGIN:VEVENT
DTSTART:20260504T112400
DTEND:20260504T112430
LOCATION:Gewerbepark 13, 8562 Mooskirchen
DTSTAMP:20260420T162242
SUMMARY:MyAuktion: Ablauf Artikel Nr. 957343 Luis Sellano Portugiesisches Blut Ein Lissabon-Krimi
URL;VALUE=URI:https://www.myauktion.com/versteigerung7647-position2440576-luis-sellano-portugiesisches-blut-ein-lissabon-krimi.php
DESCRIPTION:
UID:myauktion-7647-2440576
BEGIN:VALARM
ACTION:DISPLAY
DESCRIPTION:
TRIGGER:-PT10M
END:VALARM
END:VEVENT
END:VCALENDAR