BEGIN:VCALENDAR
VERSION:2.0
PRODID:-//Goldgrube//myauktion.com//AT
CALSCALE:GREGORIAN
BEGIN:VEVENT
DTSTART:20260504T112500
DTEND:20260504T112530
LOCATION:Gewerbepark 13, 8562 Mooskirchen
DTSTAMP:20260420T162249
SUMMARY:MyAuktion: Ablauf Artikel Nr. 957344 The Psychology Book Big Ideas Simply Explained
URL;VALUE=URI:https://www.myauktion.com/versteigerung7647-position2440577-the-psychology-book-big-ideas-simply-explained.php
DESCRIPTION:Englisch
UID:myauktion-7647-2440577
BEGIN:VALARM
ACTION:DISPLAY
DESCRIPTION:Englisch
TRIGGER:-PT10M
END:VALARM
END:VEVENT
END:VCALENDAR