BEGIN:VCALENDAR
VERSION:2.0
PRODID:-//Goldgrube//myauktion.com//AT
CALSCALE:GREGORIAN
BEGIN:VEVENT
DTSTART:20260504T112600
DTEND:20260504T112630
LOCATION:Gewerbepark 13, 8562 Mooskirchen
DTSTAMP:20260420T162236
SUMMARY:MyAuktion: Ablauf Artikel Nr. 957345 Coppenrath Furzipups Meine ersten Schnipselbilder
URL;VALUE=URI:https://www.myauktion.com/versteigerung7647-position2440578-coppenrath-furzipups-meine-ersten-schnipselbilder.php
DESCRIPTION:Inhalt: 5 Klappkarten, selbstklebendes Buntpapier
UID:myauktion-7647-2440578
BEGIN:VALARM
ACTION:DISPLAY
DESCRIPTION:Inhalt: 5 Klappkarten, selbstklebendes Buntpapier
TRIGGER:-PT10M
END:VALARM
END:VEVENT
END:VCALENDAR