BEGIN:VCALENDAR
VERSION:2.0
PRODID:-//Goldgrube//myauktion.com//AT
CALSCALE:GREGORIAN
BEGIN:VEVENT
DTSTART:20260504T112700
DTEND:20260504T112730
LOCATION:Gewerbepark 13, 8562 Mooskirchen
DTSTAMP:20260420T222103
SUMMARY:MyAuktion: Ablauf Artikel Nr. 957346 Dr. Oetker Kuchen backen
URL;VALUE=URI:https://www.myauktion.com/versteigerung7647-position2440579-dr-oetker-kuchen-backen.php
DESCRIPTION:
UID:myauktion-7647-2440579
BEGIN:VALARM
ACTION:DISPLAY
DESCRIPTION:
TRIGGER:-PT10M
END:VALARM
END:VEVENT
END:VCALENDAR