BEGIN:VCALENDAR
VERSION:2.0
PRODID:-//Goldgrube//myauktion.com//AT
CALSCALE:GREGORIAN
BEGIN:VEVENT
DTSTART:20260504T112900
DTEND:20260504T112930
LOCATION:Gewerbepark 13, 8562 Mooskirchen
DTSTAMP:20260420T162247
SUMMARY:MyAuktion: Ablauf Artikel Nr. 957348 The Church Hindsight 1980-1987 Schallplstte
URL;VALUE=URI:https://www.myauktion.com/versteigerung7647-position2440581-the-church-hindsight-1980-1987-schallplstte.php
DESCRIPTION:
UID:myauktion-7647-2440581
BEGIN:VALARM
ACTION:DISPLAY
DESCRIPTION:
TRIGGER:-PT10M
END:VALARM
END:VEVENT
END:VCALENDAR