BEGIN:VCALENDAR
VERSION:2.0
PRODID:-//Goldgrube//myauktion.com//AT
CALSCALE:GREGORIAN
BEGIN:VEVENT
DTSTART:20260504T113200
DTEND:20260504T113230
LOCATION:Gewerbepark 13, 8562 Mooskirchen
DTSTAMP:20260420T162238
SUMMARY:MyAuktion: Ablauf Artikel Nr. 957351 Justin Robertson You Are in the Future 12" Vinyl Schallplatte
URL;VALUE=URI:https://www.myauktion.com/versteigerung7647-position2440584-justin-robertson-you-are-in-the-future-12-vinyl-schallplatte.php
DESCRIPTION:
UID:myauktion-7647-2440584
BEGIN:VALARM
ACTION:DISPLAY
DESCRIPTION:
TRIGGER:-PT10M
END:VALARM
END:VEVENT
END:VCALENDAR