BEGIN:VCALENDAR
VERSION:2.0
PRODID:-//Goldgrube//myauktion.com//AT
CALSCALE:GREGORIAN
BEGIN:VEVENT
DTSTART:20260504T113800
DTEND:20260504T113830
LOCATION:Gewerbepark 13, 8562 Mooskirchen
DTSTAMP:20260420T162237
SUMMARY:MyAuktion: Ablauf Artikel Nr. 957357 Seu Jorge Live At Montreux 2005 DVD
URL;VALUE=URI:https://www.myauktion.com/versteigerung7647-position2440590-seu-jorge-live-at-montreux-2005-dvd.php
DESCRIPTION:
UID:myauktion-7647-2440590
BEGIN:VALARM
ACTION:DISPLAY
DESCRIPTION:
TRIGGER:-PT10M
END:VALARM
END:VEVENT
END:VCALENDAR