BEGIN:VCALENDAR
VERSION:2.0
PRODID:-//Goldgrube//myauktion.com//AT
CALSCALE:GREGORIAN
BEGIN:VEVENT
DTSTART:20260504T114000
DTEND:20260504T114030
LOCATION:Gewerbepark 13, 8562 Mooskirchen
DTSTAMP:20260420T192225
SUMMARY:MyAuktion: Ablauf Artikel Nr. 957359 Helbling MORE! Test builder 3
URL;VALUE=URI:https://www.myauktion.com/versteigerung7647-position2440592-helbling-more-test-builder-3.php
DESCRIPTION:Schullizenz für Lehrende (Dauerlizenz)
UID:myauktion-7647-2440592
BEGIN:VALARM
ACTION:DISPLAY
DESCRIPTION:Schullizenz für Lehrende (Dauerlizenz)
TRIGGER:-PT10M
END:VALARM
END:VEVENT
END:VCALENDAR