BEGIN:VCALENDAR
VERSION:2.0
PRODID:-//Goldgrube//myauktion.com//AT
CALSCALE:GREGORIAN
BEGIN:VEVENT
DTSTART:20260504T114100
DTEND:20260504T114130
LOCATION:Gewerbepark 13, 8562 Mooskirchen
DTSTAMP:20260420T222104
SUMMARY:MyAuktion: Ablauf Artikel Nr. 957360 Helbling MORE! Digitale Toolbox 3
URL;VALUE=URI:https://www.myauktion.com/versteigerung7647-position2440593-helbling-more-digitale-toolbox-3.php
DESCRIPTION:Schullizenz für Lehrende (Dauerlizenz)
UID:myauktion-7647-2440593
BEGIN:VALARM
ACTION:DISPLAY
DESCRIPTION:Schullizenz für Lehrende (Dauerlizenz)
TRIGGER:-PT10M
END:VALARM
END:VEVENT
END:VCALENDAR