BEGIN:VCALENDAR
VERSION:2.0
PRODID:-//Goldgrube//myauktion.com//AT
CALSCALE:GREGORIAN
BEGIN:VEVENT
DTSTART:20260504T114300
DTEND:20260504T114330
LOCATION:Gewerbepark 13, 8562 Mooskirchen
DTSTAMP:20260420T162247
SUMMARY:MyAuktion: Ablauf Artikel Nr. 957362 Helbling MORE! Audio-CDs Student's Book & Workbook 3
URL;VALUE=URI:https://www.myauktion.com/versteigerung7647-position2440595-helbling-more-audio-cds-students-book-workbook-3.php
DESCRIPTION:
UID:myauktion-7647-2440595
BEGIN:VALARM
ACTION:DISPLAY
DESCRIPTION:
TRIGGER:-PT10M
END:VALARM
END:VEVENT
END:VCALENDAR