BEGIN:VCALENDAR
VERSION:2.0
PRODID:-//Goldgrube//myauktion.com//AT
CALSCALE:GREGORIAN
BEGIN:VEVENT
DTSTART:20260504T114400
DTEND:20260504T114430
LOCATION:Gewerbepark 13, 8562 Mooskirchen
DTSTAMP:20260420T162251
SUMMARY:MyAuktion: Ablauf Artikel Nr. 957363 Helbling Playway 4 Digitale Toolbox
URL;VALUE=URI:https://www.myauktion.com/versteigerung7647-position2440596-helbling-playway-4-digitale-toolbox.php
DESCRIPTION:Schullizenz für Lehrende (Dauerlizenz)
UID:myauktion-7647-2440596
BEGIN:VALARM
ACTION:DISPLAY
DESCRIPTION:Schullizenz für Lehrende (Dauerlizenz)
TRIGGER:-PT10M
END:VALARM
END:VEVENT
END:VCALENDAR