BEGIN:VCALENDAR
VERSION:2.0
PRODID:-//Goldgrube//myauktion.com//AT
CALSCALE:GREGORIAN
BEGIN:VEVENT
DTSTART:20260504T114700
DTEND:20260504T114730
LOCATION:Gewerbepark 13, 8562 Mooskirchen
DTSTAMP:20260420T193833
SUMMARY:MyAuktion: Ablauf Artikel Nr. 957366 SØN OF DAD DELUXE Schallplatte
URL;VALUE=URI:https://www.myauktion.com/versteigerung7647-position2440599-sn-of-dad-deluxe-schallplatte.php
DESCRIPTION:
UID:myauktion-7647-2440599
BEGIN:VALARM
ACTION:DISPLAY
DESCRIPTION:
TRIGGER:-PT10M
END:VALARM
END:VEVENT
END:VCALENDAR