BEGIN:VCALENDAR
VERSION:2.0
PRODID:-//Goldgrube//myauktion.com//AT
CALSCALE:GREGORIAN
BEGIN:VEVENT
DTSTART:20260504T114800
DTEND:20260504T114830
LOCATION:Gewerbepark 13, 8562 Mooskirchen
DTSTAMP:20260420T131057
SUMMARY:MyAuktion: Ablauf Artikel Nr. 957367 Santana Marathon Schallplatte
URL;VALUE=URI:https://www.myauktion.com/versteigerung7647-position2440600-santana-marathon-schallplatte.php
DESCRIPTION:
UID:myauktion-7647-2440600
BEGIN:VALARM
ACTION:DISPLAY
DESCRIPTION:
TRIGGER:-PT10M
END:VALARM
END:VEVENT
END:VCALENDAR