BEGIN:VCALENDAR
VERSION:2.0
PRODID:-//Goldgrube//myauktion.com//AT
CALSCALE:GREGORIAN
BEGIN:VEVENT
DTSTART:20260504T114900
DTEND:20260504T114930
LOCATION:Gewerbepark 13, 8562 Mooskirchen
DTSTAMP:20260420T162245
SUMMARY:MyAuktion: Ablauf Artikel Nr. 957368 Sam Siefert Project Realization Schallplatte
URL;VALUE=URI:https://www.myauktion.com/versteigerung7647-position2440601-sam-siefert-project-realization-schallplatte.php
DESCRIPTION:
UID:myauktion-7647-2440601
BEGIN:VALARM
ACTION:DISPLAY
DESCRIPTION:
TRIGGER:-PT10M
END:VALARM
END:VEVENT
END:VCALENDAR