BEGIN:VCALENDAR
VERSION:2.0
PRODID:-//Goldgrube//myauktion.com//AT
CALSCALE:GREGORIAN
BEGIN:VEVENT
DTSTART:20260504T115000
DTEND:20260504T115030
LOCATION:Gewerbepark 13, 8562 Mooskirchen
DTSTAMP:20260420T162248
SUMMARY:MyAuktion: Ablauf Artikel Nr. 957369 Atomskog Sklonište Mentalna Higijena Schallplatte
URL;VALUE=URI:https://www.myauktion.com/versteigerung7647-position2440602-atomskog-sklonite-mentalna-higijena-schallplatte.php
DESCRIPTION:
UID:myauktion-7647-2440602
BEGIN:VALARM
ACTION:DISPLAY
DESCRIPTION:
TRIGGER:-PT10M
END:VALARM
END:VEVENT
END:VCALENDAR