BEGIN:VCALENDAR
VERSION:2.0
PRODID:-//Goldgrube//myauktion.com//AT
CALSCALE:GREGORIAN
BEGIN:VEVENT
DTSTART:20260504T115300
DTEND:20260504T115330
LOCATION:Gewerbepark 13, 8562 Mooskirchen
DTSTAMP:20260420T162238
SUMMARY:MyAuktion: Ablauf Artikel Nr. 957372 Helbling Playway 3 Poster Set inkl. Begleitheft
URL;VALUE=URI:https://www.myauktion.com/versteigerung7647-position2440605-helbling-playway-3-poster-set-inkl-begleitheft.php
DESCRIPTION:
UID:myauktion-7647-2440605
BEGIN:VALARM
ACTION:DISPLAY
DESCRIPTION:
TRIGGER:-PT10M
END:VALARM
END:VEVENT
END:VCALENDAR