BEGIN:VCALENDAR
VERSION:2.0
PRODID:-//Goldgrube//myauktion.com//AT
CALSCALE:GREGORIAN
BEGIN:VEVENT
DTSTART:20260504T115400
DTEND:20260504T115430
LOCATION:Gewerbepark 13, 8562 Mooskirchen
DTSTAMP:20260420T222103
SUMMARY:MyAuktion: Ablauf Artikel Nr. 957373 Der Herr Karl DVD
URL;VALUE=URI:https://www.myauktion.com/versteigerung7647-position2440606-der-herr-karl-dvd.php
DESCRIPTION:Digitally remastered. Mit Helmut Qualtinger, Karl Skraup, Paula Wessely
UID:myauktion-7647-2440606
BEGIN:VALARM
ACTION:DISPLAY
DESCRIPTION:Digitally remastered. Mit Helmut Qualtinger, Karl Skraup, Paula Wessely
TRIGGER:-PT10M
END:VALARM
END:VEVENT
END:VCALENDAR