BEGIN:VCALENDAR
VERSION:2.0
PRODID:-//Goldgrube//myauktion.com//AT
CALSCALE:GREGORIAN
BEGIN:VEVENT
DTSTART:20260504T115500
DTEND:20260504T115530
LOCATION:Gewerbepark 13, 8562 Mooskirchen
DTSTAMP:20260420T162246
SUMMARY:MyAuktion: Ablauf Artikel Nr. 957374 Arrow Video For a Few Dollars More 4K UHD
URL;VALUE=URI:https://www.myauktion.com/versteigerung7647-position2440607-arrow-video-for-a-few-dollars-more-4k-uhd.php
DESCRIPTION:
UID:myauktion-7647-2440607
BEGIN:VALARM
ACTION:DISPLAY
DESCRIPTION:
TRIGGER:-PT10M
END:VALARM
END:VEVENT
END:VCALENDAR