BEGIN:VCALENDAR
VERSION:2.0
PRODID:-//Goldgrube//myauktion.com//AT
CALSCALE:GREGORIAN
BEGIN:VEVENT
DTSTART:20260504T115600
DTEND:20260504T115630
LOCATION:Gewerbepark 13, 8562 Mooskirchen
DTSTAMP:20260420T162242
SUMMARY:MyAuktion: Ablauf Artikel Nr. 957375 Sony Puzzle Pack PSP gebraucht
URL;VALUE=URI:https://www.myauktion.com/versteigerung7647-position2440608-sony-puzzle-pack-psp-gebraucht.php
DESCRIPTION:Enthält die Spiele Go! Puzzle, Lemmings und Go! Sudoku
UID:myauktion-7647-2440608
BEGIN:VALARM
ACTION:DISPLAY
DESCRIPTION:Enthält die Spiele Go! Puzzle, Lemmings und Go! Sudoku
TRIGGER:-PT10M
END:VALARM
END:VEVENT
END:VCALENDAR