BEGIN:VCALENDAR
VERSION:2.0
PRODID:-//Goldgrube//myauktion.com//AT
CALSCALE:GREGORIAN
BEGIN:VEVENT
DTSTART:20260504T115800
DTEND:20260504T115830
LOCATION:Gewerbepark 13, 8562 Mooskirchen
DTSTAMP:20260420T162240
SUMMARY:MyAuktion: Ablauf Artikel Nr. 957377 Hank Williams 40 Greatest Hits
URL;VALUE=URI:https://www.myauktion.com/versteigerung7647-position2440610-hank-williams-40-greatest-hits.php
DESCRIPTION:
UID:myauktion-7647-2440610
BEGIN:VALARM
ACTION:DISPLAY
DESCRIPTION:
TRIGGER:-PT10M
END:VALARM
END:VEVENT
END:VCALENDAR