BEGIN:VCALENDAR
VERSION:2.0
PRODID:-//Goldgrube//myauktion.com//AT
CALSCALE:GREGORIAN
BEGIN:VEVENT
DTSTART:20260504T115900
DTEND:20260504T115930
LOCATION:Gewerbepark 13, 8562 Mooskirchen
DTSTAMP:20260420T162246
SUMMARY:MyAuktion: Ablauf Artikel Nr. 957378 Giovanni Paolo Cima Ricercari & Canzoni alla francese
URL;VALUE=URI:https://www.myauktion.com/versteigerung7647-position2440611-giovanni-paolo-cima-ricercari-canzoni-alla-francese.php
DESCRIPTION:Federico Del Sordo organ and harpsichord
UID:myauktion-7647-2440611
BEGIN:VALARM
ACTION:DISPLAY
DESCRIPTION:Federico Del Sordo organ and harpsichord
TRIGGER:-PT10M
END:VALARM
END:VEVENT
END:VCALENDAR