BEGIN:VCALENDAR
VERSION:2.0
PRODID:-//Goldgrube//myauktion.com//AT
CALSCALE:GREGORIAN
BEGIN:VEVENT
DTSTART:20260504T120300
DTEND:20260504T120330
LOCATION:Gewerbepark 13, 8562 Mooskirchen
DTSTAMP:20260420T192225
SUMMARY:MyAuktion: Ablauf Artikel Nr. 957382 PLAYWAY 3 Karten Set
URL;VALUE=URI:https://www.myauktion.com/versteigerung7647-position2440615-playway-3-karten-set.php
DESCRIPTION:Inhalt: Picture Cards, Word Cards
UID:myauktion-7647-2440615
BEGIN:VALARM
ACTION:DISPLAY
DESCRIPTION:Inhalt: Picture Cards, Word Cards
TRIGGER:-PT10M
END:VALARM
END:VEVENT
END:VCALENDAR