BEGIN:VCALENDAR
VERSION:2.0
PRODID:-//Goldgrube//myauktion.com//AT
CALSCALE:GREGORIAN
BEGIN:VEVENT
DTSTART:20260504T120600
DTEND:20260504T120630
LOCATION:Gewerbepark 13, 8562 Mooskirchen
DTSTAMP:20260420T162241
SUMMARY:MyAuktion: Ablauf Artikel Nr. 957385 OLYMPE Verlag Biologie für alle 1. Klasse
URL;VALUE=URI:https://www.myauktion.com/versteigerung7647-position2440618-olympe-verlag-biologie-fuer-alle-1-klasse.php
DESCRIPTION:
UID:myauktion-7647-2440618
BEGIN:VALARM
ACTION:DISPLAY
DESCRIPTION:
TRIGGER:-PT10M
END:VALARM
END:VEVENT
END:VCALENDAR