BEGIN:VCALENDAR
VERSION:2.0
PRODID:-//Goldgrube//myauktion.com//AT
CALSCALE:GREGORIAN
BEGIN:VEVENT
DTSTART:20260504T120800
DTEND:20260504T120830
LOCATION:Gewerbepark 13, 8562 Mooskirchen
DTSTAMP:20260420T162240
SUMMARY:MyAuktion: Ablauf Artikel Nr. 957387 OLYMPE Biologie für alle 4. Klasse
URL;VALUE=URI:https://www.myauktion.com/versteigerung7647-position2440620-olympe-biologie-fuer-alle-4-klasse.php
DESCRIPTION:
UID:myauktion-7647-2440620
BEGIN:VALARM
ACTION:DISPLAY
DESCRIPTION:
TRIGGER:-PT10M
END:VALARM
END:VEVENT
END:VCALENDAR