BEGIN:VCALENDAR
VERSION:2.0
PRODID:-//Goldgrube//myauktion.com//AT
CALSCALE:GREGORIAN
BEGIN:VEVENT
DTSTART:20260504T120900
DTEND:20260504T120930
LOCATION:Gewerbepark 13, 8562 Mooskirchen
DTSTAMP:20260420T162235
SUMMARY:MyAuktion: Ablauf Artikel Nr. 957388 Olympe Verlag Geschichte für Alle Lehrerheft 4. Klasse
URL;VALUE=URI:https://www.myauktion.com/versteigerung7647-position2440621-olympe-verlag-geschichte-fuer-alle-lehrerheft-4-klasse.php
DESCRIPTION:
UID:myauktion-7647-2440621
BEGIN:VALARM
ACTION:DISPLAY
DESCRIPTION:
TRIGGER:-PT10M
END:VALARM
END:VEVENT
END:VCALENDAR