BEGIN:VCALENDAR
VERSION:2.0
PRODID:-//Goldgrube//myauktion.com//AT
CALSCALE:GREGORIAN
BEGIN:VEVENT
DTSTART:20260504T121000
DTEND:20260504T121030
LOCATION:Gewerbepark 13, 8562 Mooskirchen
DTSTAMP:20260420T162243
SUMMARY:MyAuktion: Ablauf Artikel Nr. 957389 miniLÜK Mein LÜK Set Erstes Lesen, Rechnen, 1. Klasse gebraucht
URL;VALUE=URI:https://www.myauktion.com/versteigerung7647-position2440622-minilk-mein-lk-set-erstes-lesen-rechnen-1-klasse-gebraucht.php
DESCRIPTION:Inkl. LÜK-Hausaufgabenheft. Für Kinder ab 6 Jahren
UID:myauktion-7647-2440622
BEGIN:VALARM
ACTION:DISPLAY
DESCRIPTION:Inkl. LÜK-Hausaufgabenheft. Für Kinder ab 6 Jahren
TRIGGER:-PT10M
END:VALARM
END:VEVENT
END:VCALENDAR