BEGIN:VCALENDAR
VERSION:2.0
PRODID:-//Goldgrube//myauktion.com//AT
CALSCALE:GREGORIAN
BEGIN:VEVENT
DTSTART:20260504T121200
DTEND:20260504T121230
LOCATION:Gewerbepark 13, 8562 Mooskirchen
DTSTAMP:20260420T193832
SUMMARY:MyAuktion: Ablauf Artikel Nr. 957391 LÜK Hausaufgabenheft Grundschule
URL;VALUE=URI:https://www.myauktion.com/versteigerung7647-position2440624-lk-hausaufgabenheft-grundschule.php
DESCRIPTION:Der ultimative Hausaufgabenplaner für ein halbes Schuljahr für alle cleveren Grundschulkinder
UID:myauktion-7647-2440624
BEGIN:VALARM
ACTION:DISPLAY
DESCRIPTION:Der ultimative Hausaufgabenplaner für ein halbes Schuljahr für alle cleveren Grundschulkinder
TRIGGER:-PT10M
END:VALARM
END:VEVENT
END:VCALENDAR