BEGIN:VCALENDAR
VERSION:2.0
PRODID:-//Goldgrube//myauktion.com//AT
CALSCALE:GREGORIAN
BEGIN:VEVENT
DTSTART:20260504T121300
DTEND:20260504T121330
LOCATION:Gewerbepark 13, 8562 Mooskirchen
DTSTAMP:20260420T162240
SUMMARY:MyAuktion: Ablauf Artikel Nr. 957392 Roald Dahl Danny the Champion of World Plays englisch
URL;VALUE=URI:https://www.myauktion.com/versteigerung7647-position2440625-roald-dahl-danny-the-champion-of-world-plays-englisch.php
DESCRIPTION:
UID:myauktion-7647-2440625
BEGIN:VALARM
ACTION:DISPLAY
DESCRIPTION:
TRIGGER:-PT10M
END:VALARM
END:VEVENT
END:VCALENDAR