BEGIN:VCALENDAR
VERSION:2.0
PRODID:-//Goldgrube//myauktion.com//AT
CALSCALE:GREGORIAN
BEGIN:VEVENT
DTSTART:20260504T121600
DTEND:20260504T121630
LOCATION:Gewerbepark 13, 8562 Mooskirchen
DTSTAMP:20260420T162242
SUMMARY:MyAuktion: Ablauf Artikel Nr. 957395 westermann miniLÜK Erstes Lesen mit dem Buchstabenprinzen ich kann rechnen
URL;VALUE=URI:https://www.myauktion.com/versteigerung7647-position2440628-westermann-minilk-erstes-lesen-mit-dem-buchstabenprinzen-ich-kann-rechnen.php
DESCRIPTION:Inhalt: Lernspiel für Kinder ab 4 Jahren
UID:myauktion-7647-2440628
BEGIN:VALARM
ACTION:DISPLAY
DESCRIPTION:Inhalt: Lernspiel für Kinder ab 4 Jahren
TRIGGER:-PT10M
END:VALARM
END:VEVENT
END:VCALENDAR