BEGIN:VCALENDAR
VERSION:2.0
PRODID:-//Goldgrube//myauktion.com//AT
CALSCALE:GREGORIAN
BEGIN:VEVENT
DTSTART:20260504T121700
DTEND:20260504T121730
LOCATION:Gewerbepark 13, 8562 Mooskirchen
DTSTAMP:20260420T162242
SUMMARY:MyAuktion: Ablauf Artikel Nr. 957396 Ravensburger aktiv-Heft Österreich Malen Rätseln Basteln
URL;VALUE=URI:https://www.myauktion.com/versteigerung7647-position2440629-ravensburger-aktiv-heft-sterreich-malen-raetseln-basteln.php
DESCRIPTION:Mit Stickern und Bastelbogen
UID:myauktion-7647-2440629
BEGIN:VALARM
ACTION:DISPLAY
DESCRIPTION:Mit Stickern und Bastelbogen
TRIGGER:-PT10M
END:VALARM
END:VEVENT
END:VCALENDAR