BEGIN:VCALENDAR
VERSION:2.0
PRODID:-//Goldgrube//myauktion.com//AT
CALSCALE:GREGORIAN
BEGIN:VEVENT
DTSTART:20260504T122000
DTEND:20260504T122030
LOCATION:Gewerbepark 13, 8562 Mooskirchen
DTSTAMP:20260420T193833
SUMMARY:MyAuktion: Ablauf Artikel Nr. 957399 Ritual Device No Quarter Hotdog Schallplatte
URL;VALUE=URI:https://www.myauktion.com/versteigerung7647-position2440632-ritual-device-no-quarter-hotdog-schallplatte.php
DESCRIPTION:
UID:myauktion-7647-2440632
BEGIN:VALARM
ACTION:DISPLAY
DESCRIPTION:
TRIGGER:-PT10M
END:VALARM
END:VEVENT
END:VCALENDAR