BEGIN:VCALENDAR
VERSION:2.0
PRODID:-//Goldgrube//myauktion.com//AT
CALSCALE:GREGORIAN
BEGIN:VEVENT
DTSTART:20260504T122300
DTEND:20260504T122330
LOCATION:Gewerbepark 13, 8562 Mooskirchen
DTSTAMP:20260422T211824
SUMMARY:MyAuktion: Ablauf Artikel Nr. 957402 OLYMPE Verlag Biologie für alle 2. Klasse Lehrerheft
URL;VALUE=URI:https://www.myauktion.com/versteigerung7647-position2440635-olympe-verlag-biologie-fuer-alle-2-klasse-lehrerheft.php
DESCRIPTION:Enthält Lehrmaterialien für die 2. Klasse
UID:myauktion-7647-2440635
BEGIN:VALARM
ACTION:DISPLAY
DESCRIPTION:Enthält Lehrmaterialien für die 2. Klasse
TRIGGER:-PT10M
END:VALARM
END:VEVENT
END:VCALENDAR