BEGIN:VCALENDAR
VERSION:2.0
PRODID:-//Goldgrube//myauktion.com//AT
CALSCALE:GREGORIAN
BEGIN:VEVENT
DTSTART:20260504T122500
DTEND:20260504T122530
LOCATION:Gewerbepark 13, 8562 Mooskirchen
DTSTAMP:20260420T162242
SUMMARY:MyAuktion: Ablauf Artikel Nr. 957404 Coppenrath Furzipups Mein erstes Stickerset
URL;VALUE=URI:https://www.myauktion.com/versteigerung7647-position2440637-coppenrath-furzipups-mein-erstes-stickerset.php
DESCRIPTION:Mit über 40 Stickern
UID:myauktion-7647-2440637
BEGIN:VALARM
ACTION:DISPLAY
DESCRIPTION:Mit über 40 Stickern
TRIGGER:-PT10M
END:VALARM
END:VEVENT
END:VCALENDAR