BEGIN:VCALENDAR
VERSION:2.0
PRODID:-//Goldgrube//myauktion.com//AT
CALSCALE:GREGORIAN
BEGIN:VEVENT
DTSTART:20260504T122700
DTEND:20260504T122730
LOCATION:Gewerbepark 13, 8562 Mooskirchen
DTSTAMP:20260420T162249
SUMMARY:MyAuktion: Ablauf Artikel Nr. 957406 Coppenrath Furzipups Mein erster Malblock
URL;VALUE=URI:https://www.myauktion.com/versteigerung7647-position2440639-coppenrath-furzipups-mein-erster-malblock.php
DESCRIPTION:Inhalt: 32 pupswolkige Motive
UID:myauktion-7647-2440639
BEGIN:VALARM
ACTION:DISPLAY
DESCRIPTION:Inhalt: 32 pupswolkige Motive
TRIGGER:-PT10M
END:VALARM
END:VEVENT
END:VCALENDAR