BEGIN:VCALENDAR
VERSION:2.0
PRODID:-//Goldgrube//myauktion.com//AT
CALSCALE:GREGORIAN
BEGIN:VEVENT
DTSTART:20260504T122800
DTEND:20260504T122830
LOCATION:Gewerbepark 13, 8562 Mooskirchen
DTSTAMP:20260420T162244
SUMMARY:MyAuktion: Ablauf Artikel Nr. 957407 Joseph Haydn Philemon und Baucis Deutsches Singspiel / Marionettenoper
URL;VALUE=URI:https://www.myauktion.com/versteigerung7647-position2440640-joseph-haydn-philemon-und-baucis-deutsches-singspiel---marionettenoper.php
DESCRIPTION:Edition HH. Herausgegeben von Trevor Pinnock
UID:myauktion-7647-2440640
BEGIN:VALARM
ACTION:DISPLAY
DESCRIPTION:Edition HH. Herausgegeben von Trevor Pinnock
TRIGGER:-PT10M
END:VALARM
END:VEVENT
END:VCALENDAR