BEGIN:VCALENDAR
VERSION:2.0
PRODID:-//Goldgrube//myauktion.com//AT
CALSCALE:GREGORIAN
BEGIN:VEVENT
DTSTART:20260504T090100
DTEND:20260504T090130
LOCATION:Gewerbepark 13, 8562 Mooskirchen
DTSTAMP:20260420T194901
SUMMARY:MyAuktion: Ablauf Artikel Nr. 893474 Vivo barefoot Tracker Boot Obsidian Pre-School
URL;VALUE=URI:https://www.myauktion.com/versteigerung7649-position2440875-vivo-barefoot-tracker-boot-obsidian-pre-school.php
DESCRIPTION:Größe 26
UID:myauktion-7649-2440875
BEGIN:VALARM
ACTION:DISPLAY
DESCRIPTION:Größe 26
TRIGGER:-PT10M
END:VALARM
END:VEVENT
END:VCALENDAR